BEGIN:VCALENDAR
VERSION:2.0
PRODID:-//Nature Coast Church - ECPv6.15.12.2//NONSGML v1.0//EN
CALSCALE:GREGORIAN
METHOD:PUBLISH
X-WR-CALNAME:Nature Coast Church
X-ORIGINAL-URL:http://naturecoastchurch.com
X-WR-CALDESC:Events for Nature Coast Church
REFRESH-INTERVAL;VALUE=DURATION:PT1H
X-Robots-Tag:noindex
X-PUBLISHED-TTL:PT1H
BEGIN:VTIMEZONE
TZID:America/New_York
BEGIN:DAYLIGHT
TZOFFSETFROM:-0500
TZOFFSETTO:-0400
TZNAME:EDT
DTSTART:20190310T070000
END:DAYLIGHT
BEGIN:STANDARD
TZOFFSETFROM:-0400
TZOFFSETTO:-0500
TZNAME:EST
DTSTART:20191103T060000
END:STANDARD
BEGIN:DAYLIGHT
TZOFFSETFROM:-0500
TZOFFSETTO:-0400
TZNAME:EDT
DTSTART:20200308T070000
END:DAYLIGHT
BEGIN:STANDARD
TZOFFSETFROM:-0400
TZOFFSETTO:-0500
TZNAME:EST
DTSTART:20201101T060000
END:STANDARD
BEGIN:DAYLIGHT
TZOFFSETFROM:-0500
TZOFFSETTO:-0400
TZNAME:EDT
DTSTART:20210314T070000
END:DAYLIGHT
BEGIN:STANDARD
TZOFFSETFROM:-0400
TZOFFSETTO:-0500
TZNAME:EST
DTSTART:20211107T060000
END:STANDARD
END:VTIMEZONE
BEGIN:VEVENT
DTSTART;TZID=America/New_York:20200712T190000
DTEND;TZID=America/New_York:20200712T200000
DTSTAMP:20260424T121232
CREATED:20200302T235006Z
LAST-MODIFIED:20200302T235310Z
UID:724-1594580400-1594584000@naturecoastchurch.com
SUMMARY:Bereaved Parents Memorial Service
DESCRIPTION:
URL:http://naturecoastchurch.com/event/bereaved-parents-memorial-service/
LOCATION:Nature Coast Church\, 5113 S Suncoast Blvd\, Homosassa\, FL\, 34446\, United States
CATEGORIES:Events
ATTACH;FMTTYPE=image/jpeg:http://naturecoastchurch.com/wp-content/uploads/2020/03/74576053_2604937806215951_5947520761307594752_n.jpg
END:VEVENT
BEGIN:VEVENT
DTSTART;TZID=America/New_York:20200830T180000
DTEND;TZID=America/New_York:20200830T200000
DTSTAMP:20260424T121232
CREATED:20200302T235204Z
LAST-MODIFIED:20200302T235204Z
UID:727-1598810400-1598817600@naturecoastchurch.com
SUMMARY:National Grief & International Overdose Awareness Day
DESCRIPTION:
URL:http://naturecoastchurch.com/event/national-grief-international-overdose-awareness-day/
LOCATION:Nature Coast Church\, 5113 S Suncoast Blvd\, Homosassa\, FL\, 34446\, United States
CATEGORIES:Events
ATTACH;FMTTYPE=image/jpeg:http://naturecoastchurch.com/wp-content/uploads/2020/03/76939615_2605054566204275_1281734664804892672_n.jpg
END:VEVENT
END:VCALENDAR